BEGIN:VCALENDAR
VERSION:2.0
PRODID:Events Booking
BEGIN:VEVENT
UID:69eaa2238af43
SUMMARY:HDI SMO (Sem treinamento) - EAD
DESCRIPTION:O Curso HDI SMO (Sem treinamento - EAD)&nbsp\;permite que o alu
 no estude em seu próprio ritmo\, tempo e disponibilidade\, acessando o co
 nteúdo do curso (videoaulas\, exercícios\, simulados e materiais extras)
  diretamente na plataforma de ensino do HDI. Os alunos podem realizar as a
 ulas a partir de qualquer computador com acesso à Internet.
 Aprenda pra
 ticamente a qualquer hora\, em qualquer lugar e em seu tempo!
 Após a co
 mpra\, acesso ao conteúdo do curso pode ser ativado em até 24 horas. Dep
 ois de se inscrever em um curso online\, você tem até 12 semanas para ac
 essar a plataforma e concluí-lo. Recomendamos que se programe para realiz
 ar o curso dentro do prazo e expiração\, pois a extensão do prazo de ac
 esso por mais 30 dias\, terá uma taxa de R$ 199\,00.
 Quaisquer dúvidas
  sobre o curso\, essa modalidade\, prazos\, dentre outros temas\, entre em
  contato com o HDI através do chat no canto direito da sua tela\, ligue p
 ara (11) 3071 0906 ou escreva para falecom@hdibrasil.com.br
 Bons estudos
 !
 O valor individual para este curso sem certificação é de R$ 1.793\,
 50 e pode ser parcelado em até 3x sem juros no cartão de crédito.
 *De
 scontos especiais para inscrições em grupo da mesma empresa:
 De 2 a 4 
 participantes:&nbsp\;Desconto automático de 5%De 5 a 8 participantes:&nbs
 p\;Desconto automático de 8%A partir de 9 participantes:&nbsp\;Desconto a
 utomático de 10% Se precisar de mais informações ou tiver mais dúvidas
 \, sinta-se à vontade para nos contatar diretamente
 Atenciosamente
 Eq
 uipe HDI Brasil
 &nbsp\;falecom@hdibrasil.com.br &nbsp\;(11) 3071-0906
DTSTART:21000101T030000Z
DTEND:21000101T030000Z
DTSTAMP:20260423T175011Z
ORGANIZER;CN=HDI Brasil:MAILTO:falecom@hdibrasil.com.br
END:VEVENT
END:VCALENDAR