BEGIN:VCALENDAR
VERSION:2.0
PRODID:Events Booking
BEGIN:VEVENT
UID:69eaa49feb7fe
SUMMARY:HDI WFM - Curso On-line (Gravado)
DESCRIPTION:O treinamento online gravado\, HDI WFM&nbsp\;permite que o alun
 o treine em seu próprio ritmo\, tempo e disponibilidade\, acessando o con
 teúdo do curso (videoaulas\, exercícios\, simulados e materiais extras) 
 diretamente na plataforma de ensino do HDI. Os alunos podem realizar as au
 las a partir de qualquer computador com acesso à Internet\, e o curso lev
 a de 5 a 6 horas para ser concluído.
 Aprenda praticamente a qualquer ho
 ra\, em qualquer lugar e em seu tempo!
 Após a compra\, os cursos podem 
 ser ativados em até 24 horas. Depois de se inscrever em um curso online\,
  você tem até 12 semanas para acessar a plataforma e concluí-lo. Recome
 ndamos que se programe para realizar o curso dentro do prazo e expiração
 \, pois a extensão do prazo de acesso por mais 30 dias\, terá uma taxa d
 e R$ 199\,00.
 Quaisquer dúvidas sobre o curso\, essa modalidade\, o exa
 me de certificação\, prazos\, dentre outros temas\, entre em contato com
  o HDI através do chat no canto direito da sua tela\, ligue para (11) 307
 1 0906 ou escreva para falecom@hdibrasil.com.br
 Bons estudos!
 O valor 
 individual para esta certificação é de R$ 1.793\,00 e pode ser parcelad
 o em até 3x sem juros no cartão de crédito.
 *Descontos especiais para
  inscrições em grupo da mesma empresa:
 De 2 a 4 participantes:&nbsp\;D
 esconto automático de 5%De 5 a 8 participantes:&nbsp\;Desconto automátic
 o de 8%A partir de 9 participantes:&nbsp\;Desconto automático de 10% Se p
 recisar de mais informações ou tiver mais dúvidas\, sinta-se à vontade
  para nos contatar diretamente
 Atenciosamente
 Equipe HDI Brasil
 &nbs
 p\;falecom@hdibrasil.com.br &nbsp\;(11) 3071-0906
DTSTART:20990101T030000Z
DTEND:20990101T030000Z
DTSTAMP:20260423T180047Z
ORGANIZER;CN=HDI Brasil:MAILTO:falecom@hdibrasil.com.br
END:VEVENT
END:VCALENDAR