BEGIN:VCALENDAR
VERSION:2.0
PRODID:Events Booking
BEGIN:VEVENT
UID:69ea77790e82a
SUMMARY:Certificação HDI KCS Foundation (sem treinamento)
DESCRIPTION:O valor individual para esta certificação é de&nbsp\;R$ 1.99
 3\,00 e pode ser parcelado em até 12x sem juros no cartão de crédito.

  A certificação\, HDI KCS Foundation (sem o treinamento) permite que o a
 luno treine em seu próprio ritmo\, tempo e disponibilidade\, oferecemos a
 lém da apostila o acesso ao conteúdo do curso gravado contendo: videoaul
 as\, exercícios\, simulados e materiais extras\, diretamente na plataform
 a de ensino do HDI. Os alunos\, opcionalmente podem realizar as aulas a pa
 rtir de qualquer computador com acesso à Internet.
 Aprenda praticamente
  a qualquer hora\, em qualquer lugar e em seu tempo!
 Após a compra\, os
  acessos podem ser ativados em até 24 horas.&nbsp\;
 Obs.: Este valor\, 
 já inclui o exame de certificação internacional e pode ser parcelado em
  até 3x sem juros\, no cartão de crédito.
 
 *Descontos especiais par
 a inscrições em grupo da mesma empresa:
 De 2 a 4 participantes:&nbsp\;
 Desconto automático de 5%De 5 a 8 participantes:&nbsp\;Desconto automáti
 co de 8%A partir de 9 participantes:&nbsp\;Desconto automático de 10%
 S
 e precisar de mais informações ou tiver mais dúvidas\, sinta-se à vont
 ade para nos contatar diretamente
 Atenciosamente
 Equipe HDI Brasil
 &
 nbsp\;falecom@hdibrasil.com.br &nbsp\;(11) 3071-0906
DTSTART:21050101T030000Z
DTEND:21050101T030000Z
DTSTAMP:20260423T144809Z
ORGANIZER;CN=HDI Brasil:MAILTO:falecom@hdibrasil.com.br
END:VEVENT
END:VCALENDAR