BEGIN:VCALENDAR
VERSION:2.0
PRODID:Events Booking
BEGIN:VEVENT
UID:69ea773463b3f
SUMMARY:Certificação HDI KCS Principles (Sem Treinamento)
DESCRIPTION:O valor individual para esta certificação é de R$&nbsp\;2.79
 9\,05 e pode ser parcelado em até 12x sem juros no cartão de crédito. S
 e precisar de mais informações ou tiver mais dúvidas\, sinta-se à vont
 ade para nos contatar diretamente
 Atenciosamente
 Equipe HDI Brasil
 &
 nbsp\;falecom@hdibrasil.com.br &nbsp\;(11) 3071-0906
DTSTART:21050101T030000Z
DTEND:21050101T030000Z
DTSTAMP:20260423T144700Z
ORGANIZER;CN=HDI Brasil:MAILTO:falecom@hdibrasil.com.br
END:VEVENT
END:VCALENDAR