BEGIN:VCALENDAR
VERSION:2.0
PRODID:Events Booking
BEGIN:VEVENT
UID:69ea8d4c38fd9
SUMMARY:HDI Q&A - Curso On-line (Gravado) 
DESCRIPTION:O treinamento online (gravado) HDI Garantia de Qualidade (Quali
 ty Assurance - QA)&nbsp\;permite que o aluno treine em seu próprio ritmo\
 , tempo e disponibilidade\, acessando o conteúdo do curso (videoaulas\, e
 xercícios\, e materiais extras) diretamente na plataforma de ensino do HD
 I. Os alunos podem realizar as aulas a partir de qualquer computador com a
 cesso à Internet\, e o curso leva de 5 a 6 horas para ser concluído.
 A
 prenda praticamente a qualquer hora\, em qualquer lugar e em seu tempo!
 
 Após a compra\, os cursos podem ser ativados em até 24 horas. Depois de 
 se inscrever em um curso online\, você tem até 12 semanas para acessar a
  plataforma e concluí-lo. Recomendamos que se programe para realizar o cu
 rso dentro do prazo e expiração\, pois a extensão do prazo de acesso po
 r mais 30 dias\, terá uma taxa de R$ 199\,00.
 Quaisquer dúvidas sobre 
 o curso\, essa modalidade\, prazos\, dentre outros temas\, entre em contat
 o com o HDI através do chat no canto direito da sua tela\, ligue para (11
 ) 3071 0906 ou escreva para falecom@hdibrasil.com.br
 Bons estudos!
 O v
 alor individual para este curso é de R$ 1.093\,00 e pode ser parcelado em
  até 3x sem juros no cartão de crédito.
 *Descontos especiais para ins
 crições em grupo da mesma empresa:
 De 2 a 4 participantes:&nbsp\;Desco
 nto automático de 5%De 5 a 8 participantes:&nbsp\;Desconto automático de
  8%A partir de 9 participantes:&nbsp\;Desconto automático de 10%
  Se pr
 ecisar de mais informações ou tiver mais dúvidas\, sinta-se à vontade 
 para nos contatar diretamente
 Atenciosamente
 Equipe HDI Brasil
 &nbsp
 \;falecom@hdibrasil.com.br &nbsp\;(11) 3071-0906
DTSTART:20990101T030000Z
DTEND:20990101T030000Z
DTSTAMP:20260423T162116Z
ORGANIZER;CN=HDI Brasil:MAILTO:falecom@hdibrasil.com.br
END:VEVENT
END:VCALENDAR