BEGIN:VCALENDAR
VERSION:2.0
PRODID:Events Booking
BEGIN:VEVENT
UID:69ea7906c702f
SUMMARY:HDI IA - 25 e 26 de abril de 2026
DESCRIPTION:
 Treinamento para a certificação internacionalInteligência
  Artificial para Centros de Suporte
 Data:&nbsp\;&nbsp\;25 e 26 de abril 
 de 2026Horário:&nbsp\;das 9h às 18h (horário de brasília)Modalidade:&n
 bsp\; On-line\, ao vivoValor individual:&nbsp\;R$&nbsp\;3.193\,00
 Obs.: 
 Este valor\, pode ser parcelado em até 12x sem juros\, no cartão de cré
 dito.
 
 *Descontos especiais para inscrições em grupo no CNPJ da mesm
 a empresa:
 De 2 a 4 participantes:&nbsp\;Desconto automático de 5%De 5 
 a 8 participantes:&nbsp\;Desconto automático de 8%A partir de 9 participa
 ntes:&nbsp\;Desconto automático de 10%
DTSTART:20260425T110000Z
DTEND:20260426T210000Z
DTSTAMP:20260423T145446Z
ORGANIZER;CN=HDI Brasil:MAILTO:falecom@hdibrasil.com.br
END:VEVENT
END:VCALENDAR