BEGIN:VCALENDAR
VERSION:2.0
PRODID:Events Booking
BEGIN:VEVENT
UID:69ea789485322
SUMMARY:Reteste da Certificação HDI SCTL
DESCRIPTION:
 Importante: Esta inscrição é exclusiva para os alunos que
  já fizeram o exame e não conseguiram a pontuação necessária para a a
 provação.
 Esta inscrição será verificada pelo comitê do HDI e caso
  não esteja qualificada de acordo com o critério acima\, o reembolso ser
 á de 50% do valor pago para cobrir as taxas e encargos gerados por eventu
 al cancelamento.
 Caso esteja interssado em adquirir a certificação HDI
  sem o treinamento\, clique aqui!
  × 
 O valor para o reteste desta ce
 rtificação é de R$ 399\,00 e pode ser parcelado em até 3x sem juros no
  cartão de crédito. Se precisar de mais informações ou tiver mais dúv
 idas\, sinta-se à vontade para nos contatar diretamente
 Atenciosamente
 
 Equipe HDI Brasil
 &nbsp\;falecom@hdibrasil.com.br &nbsp\;(11) 3071-090
 6
DTSTART:21020101T030000Z
DTEND:21020101T030000Z
DTSTAMP:20260423T145252Z
ORGANIZER;CN=HDI Brasil:MAILTO:falecom@hdibrasil.com.br
END:VEVENT
END:VCALENDAR