BEGIN:VCALENDAR
VERSION:2.0
PRODID:Events Booking
BEGIN:VEVENT
UID:69ea51ad83ae0
SUMMARY:Curso HDI KCSP - 12 a 14 de maio de 2026
DESCRIPTION:Treinamento para a certificação internacionalHDI KCS Principl
 es - Knowledge-Centered Service
 Data:&nbsp\;&nbsp\;12 a 14 de maio de 20
 26Horário:&nbsp\;das 9h às 18h (horário de brasília)Modalidade:&nbsp\;
  On-line\, ao vivoValor individual:&nbsp\;R$3.293\,00
 Obs.: Este valor\,
  pode ser parcelado em até 12x sem juros\, no cartão de crédito.
 
 *
 Descontos especiais para inscrições em grupo no CNPJ da mesma empresa:

  De 2 a 4 participantes:&nbsp\;Desconto automático de 5%De 5 a 8 particip
 antes:&nbsp\;Desconto automático de 8%A partir de 9 participantes:&nbsp\;
 Desconto automático de 10%
DTSTART:20260512T110000Z
DTEND:20260514T210000Z
DTSTAMP:20260423T120653Z
ORGANIZER;CN=HDI Brasil:MAILTO:falecom@hdibrasil.com.br
END:VEVENT
END:VCALENDAR