BEGIN:VCALENDAR
VERSION:2.0
PRODID:Events Booking
BEGIN:VEVENT
UID:69ea8fc9ad706
SUMMARY:Curso HDI SCM - 27 a 29 de maio de 2026
DESCRIPTION:Treinamento para a certificação internacionalHDI SCM - Suppor
 t Center&nbsp\;Manager&nbsp\;
 Data:&nbsp\;&nbsp\;27 a 29 de maio de 2026
 Horário:&nbsp\;das 9h às 18h (horário de brasília)Modalidade:&nbsp\;On
 -line\, ao vivoValor individual:&nbsp\;R$&nbsp\;3.293\,00
 Obs.: Este val
 or\, pode ser parcelado em até 12x sem juros\, no cartão de crédito.
 
 
 *Descontos especiais para inscrições em grupo no CNPJ da mesma empres
 a:
 De 2 a 4 participantes:&nbsp\;Desconto automático de 5%De 5 a 8 part
 icipantes:&nbsp\;Desconto automático de 8%A partir de 9 participantes:&nb
 sp\;Desconto automático de 10%
DTSTART:20260527T110000Z
DTEND:20260529T210000Z
DTSTAMP:20260423T163153Z
ORGANIZER;CN=HDI Brasil:MAILTO:falecom@hdibrasil.com.br
END:VEVENT
END:VCALENDAR