BEGIN:VCALENDAR
VERSION:2.0
PRODID:Events Booking
BEGIN:VEVENT
UID:69ea4f82366f0
SUMMARY:Formação Executivo CTO (abril/ 2026) - Turma 4 | Programado: Iní
 cio 15/04/2026 - Conclusão: 01/07/2026
DESCRIPTION: Treinamento para a certificação: Formação Executivo CTO
 
 (PROGRAMA DE FORMAÇÃO CHIEF TECHNOLOGY OFFICER)Valor individual:&nbsp\;R
 $ 6.900\,00
 Data da próxima turma:&nbsp\;Turma 4 | Programado : Inicio 
 15/04/2026 - Conclusão: 01/07/2026Modalidade: HíbridaCarga Horária: 60 
 horas (3 meses)Perfil Profissional: GestorCertificação (prova): Incluíd
 a.Download da Ementa do curso e Conteúdo Programático
 Obs.: Este valor
 \, pode ser parcelado em até 12x sem juros\, no cartão de crédito.
 

  
 
DTSTART:20260415T110000Z
DTEND:20260701T210000Z
DTSTAMP:20260423T115738Z
ORGANIZER;CN=HDI Brasil:MAILTO:falecom@hdibrasil.com.br
END:VEVENT
END:VCALENDAR