BEGIN:VCALENDAR
VERSION:2.0
PRODID:Events Booking
BEGIN:VEVENT
UID:69ea79ea31bc7
SUMMARY:Curso HDI SCA online gravado
DESCRIPTION:O treinamento online gravado\, HDI SCA&nbsp\;permite que o alun
 o treine em seu próprio ritmo\, tempo e disponibilidade\, acessando o con
 teúdo do curso (videoaulas\, exercícios\, simulados e materiais extras) 
 diretamente na plataforma de ensino do HDI. Os alunos podem realizar as au
 las a partir de qualquer computador com acesso à Internet.
 Aprenda prat
 icamente a qualquer hora\, em qualquer lugar e em seu tempo!
 Após a com
 pra\, os cursos podem ser ativados em até 24 horas. Depois de se inscreve
 r em um curso online\, você tem até 12 semanas para acessar a plataforma
  e concluí-lo. Recomendamos que se programe para realizar o curso dentro 
 do prazo e expiração\, pois a extensão do prazo de acesso por mais 30 d
 ias\, terá uma taxa de R$ 199\,00.
 Quaisquer dúvidas sobre o curso\, e
 ssa modalidade\, o exame de certificação\, prazos\, dentre outros temas\
 , entre em contato com o HDI através do chat no canto direito da sua tela
 \, ligue para (11) 3071 0906 ou escreva para falecom@hdibrasil.com.br
 Bo
 ns estudos!
 O valor individual para esta certificação é de&nbsp\;R$ 1
 .993\,00 e pode ser parcelado em até 12x sem juros no cartão de crédito
 .
 *Descontos especiais para inscrições em grupo da mesma empresa (pess
 oa Jurídica):
 De 2 a 4 participantes:&nbsp\;Desconto automático de 5%D
 e 5 a 8 participantes:&nbsp\;Desconto automático de 8%A partir de 9 parti
 cipantes:&nbsp\;Desconto automático de 10% Se precisar de mais informaç
 ões ou tiver mais dúvidas\, sinta-se à vontade para nos contatar direta
 mente
 Atenciosamente
 Equipe HDI Brasil
 &nbsp\;falecom@hdibrasil.com.
 br &nbsp\;(11) 3071-0906
DTSTART:21000101T030000Z
DTEND:21000101T030000Z
DTSTAMP:20260423T145834Z
ORGANIZER;CN=HDI Brasil:MAILTO:falecom@hdibrasil.com.br
END:VEVENT
END:VCALENDAR